BEGIN:VCALENDAR
VERSION:2.0
PRODID:-//Outokummun karateseura - ECPv6.15.15//NONSGML v1.0//EN
CALSCALE:GREGORIAN
METHOD:PUBLISH
X-WR-CALNAME:Outokummun karateseura
X-ORIGINAL-URL:https://www.outokummunkarateseura.net
X-WR-CALDESC:Tapahtumat Outokummun karateseura
REFRESH-INTERVAL;VALUE=DURATION:PT1H
X-Robots-Tag:noindex
X-PUBLISHED-TTL:PT1H
BEGIN:VTIMEZONE
TZID:UTC
BEGIN:STANDARD
TZOFFSETFROM:+0000
TZOFFSETTO:+0000
TZNAME:UTC
DTSTART:20240101T000000
END:STANDARD
END:VTIMEZONE
BEGIN:VTIMEZONE
TZID:Europe/Moscow
BEGIN:STANDARD
TZOFFSETFROM:+0300
TZOFFSETTO:+0300
TZNAME:MSK
DTSTART:20250101T000000
END:STANDARD
END:VTIMEZONE
BEGIN:VEVENT
DTSTART;TZID=UTC:20260218T170000
DTEND;TZID=UTC:20260218T180000
DTSTAMP:20260421T115632
CREATED:20260131T020546Z
LAST-MODIFIED:20260131T020603Z
UID:1157-1771434000-1771437600@www.outokummunkarateseura.net
SUMMARY:Vetäjäpalaveri - kauden suunnitelmia
DESCRIPTION:Vetäjille suunnattu palaveri.\nPalautejohtaminen.
URL:https://www.outokummunkarateseura.net/event/vetajapalaveri-kauden-suunnitelmia/
END:VEVENT
BEGIN:VEVENT
DTSTART;TZID=Europe/Moscow:20260207T120000
DTEND;TZID=Europe/Moscow:20260207T130000
DTSTAMP:20260421T115632
CREATED:20260202T093122Z
LAST-MODIFIED:20260202T093306Z
UID:1349-1770465600-1770469200@www.outokummunkarateseura.net
SUMMARY:Juniorit ryhmä 2
DESCRIPTION:
URL:https://www.outokummunkarateseura.net/event/juniorit-ryhma-2/
LOCATION:Outokummun Urheilutalo\, Outolamminkatu 2\, Outokumpu\, Suomi
END:VEVENT
BEGIN:VEVENT
DTSTART;TZID=Europe/Moscow:20260207T110000
DTEND;TZID=Europe/Moscow:20260207T120000
DTSTAMP:20260421T115632
CREATED:20260202T093004Z
LAST-MODIFIED:20260202T093004Z
UID:1347-1770462000-1770465600@www.outokummunkarateseura.net
SUMMARY:Juniorit ryhmä 1
DESCRIPTION:
URL:https://www.outokummunkarateseura.net/event/juniorit-ryhma-1/
LOCATION:Outokummun Urheilutalo\, Outolamminkatu 2\, Outokumpu\, Suomi
END:VEVENT
BEGIN:VEVENT
DTSTART;TZID=UTC:20251123T130000
DTEND;TZID=UTC:20251123T160000
DTSTAMP:20260421T115632
CREATED:20251019T114600Z
LAST-MODIFIED:20251019T114600Z
UID:1148-1763902800-1763913600@www.outokummunkarateseura.net
SUMMARY:VYÖKOKEET 1.KYU JA KATSELMUKSET
DESCRIPTION:Vyökokeet 2025 no.2 (1.kyu / Dan katselmukset) \nDSF virallinen vyökoe / harjoitus.. SHITORYU vyökoevaatimukset.\nIlmoittaudu ohjaajasi kautta. Hyvää oppia myös tyylisuuntaa harjoittaville. \nHinta: 30€ (katselmus)\, 50€ (1.kyu vyökoe).\nAika:  23.11.2025\, klo 13-16.00.\npaikka: KJB- Joensuu DOJOLLA!
URL:https://www.outokummunkarateseura.net/event/vyokokeet-1-kyu-ja-katselmukset/
LOCATION:koryu jissen bujitsu\, Tulliportinkatu 54\, Joensuu\, Suomi
END:VEVENT
BEGIN:VEVENT
DTSTART;TZID=UTC:20251025T120000
DTEND;TZID=UTC:20251025T150000
DTSTAMP:20260421T115632
CREATED:20251019T111928Z
LAST-MODIFIED:20251019T112814Z
UID:1145-1761393600-1761404400@www.outokummunkarateseura.net
SUMMARY:100 KATAA 25.10.2025
DESCRIPTION:Tervetuloa viralliseen kansainväliseen karaten juhlapäivään Outokumpuun! \nKaraten virallista päivää juhlitaan 25.10. https://karate-event.jp/ \nLauantaina 25.10.2025 vietetään kansainvälistä karatepäivää\, ja sen kunniaksi Outokummun Karateseura osallistuu maailmanlaajuiseen 100 kataa päivässä -haasteeseen tatamilla klo 12:00–15:00. Tapahtuma on avoin kaikille jäsenillemme – junioreille ja aikuisille – ja se tarjoaa loistavan mahdollisuuden haastaa itseään\, syventää kata-harjoittelua ja juhlistaa karaten yhteisöllisyyttä.\n\nIdeana on saada koko seura koolle ja junioreille mahdollisuus nähdä seuran muutakin jäsenistöä. Kansanvälinen karatepäivä sopii tähän oikein hyvin.\n\nAikataulu:\n\nKlo 12:00–13:00: Juniorit harjoittelevat yhdessä aikuisten kanssa. Tämä tunti on suunniteltu erityisesti junioreita silmällä pitäen\, ja jokainen osallistuva juniori saa tapahtumasta muistoksi todistuksen. Junioriohjaajat ovat auttamassa treeneissä ja ohjaavat katojen tekemisessä kuten normaaleissakin treeneissä.\n\nKlo 13:00–15:00: Aikuiset jatkavat haastetta. Treenin loppupuolella syvennymme esimerkiksi Pinan-katojen bunkai-sovelluksiin\, tuoden harjoitteluun lisää monipuolisuutta.\n\nTapahtuman keskiössä on yhdessä tekemisen ilo\, joten rohkaisemme kaikkia tulemaan mukaan ja treenaamaan yhdessä. Jokainen saa valita oman katan/kata ja tehdä niitä omaan tahtiin.\n\nOta mukaan karatepuku\, juomapullo ja avoin mieli.\nTervetuloa juhlimaan kansainvälistä karatepäivää kanssamme!\n  \nOhjelmassa siis 100 kataa!!! \nHuom! Etkot Joensuussa KJB sallia\, 24.10.2025! \nTERVETULOA!
URL:https://www.outokummunkarateseura.net/event/100-kataa-25-10-2025/
LOCATION:Outokummun Urheilutalo\, Outolamminkatu 2\, Outokumpu\, Suomi
END:VEVENT
BEGIN:VEVENT
DTSTART;TZID=UTC:20251011T140000
DTEND;TZID=UTC:20251011T160000
DTSTAMP:20260421T115632
CREATED:20251008T135648Z
LAST-MODIFIED:20251008T140228Z
UID:1133-1760191200-1760198400@www.outokummunkarateseura.net
SUMMARY:Lauantain aikuiset
DESCRIPTION:Ohjaaja: Teemu \nTekniikat: oranssi\, kumite \nTeema: kimmoisuus ja nopeus \n  \n 
URL:https://www.outokummunkarateseura.net/event/lauantain-aikuiset/
END:VEVENT
END:VCALENDAR